BEGIN:VCALENDAR
VERSION:2.0
PRODID:-//DIGITAL FACTORY//EVENTS MAKER V1.6.14//EN
CALSCALE:GREGORIAN
BEGIN:VEVENT
DTEND:20251029T200000Z
UID:69e655ba840e2
DTSTAMP:20260420T163506Z
CATEGORIES:Golf Event
DESCRIPTION:5th Annual Night Golf    Grab your friends and join us for this year's night golf tournament. Open to members\, friend and visitors!    Remember to bring a torch because you'll be seeing the course in a whole new light...or lack of it!    With LED light up golf balls\, fairway and hazard glowing markers and light up flags and cups\, this is a very fun night of golf.    This is a 9-hole stableford\, tee times are from 5pm - Prizes are on offer for the best 3 players and Nearest the Pin's on the two Par 3's!    Hot Jacket Potatoes and Chilli is served after you play (included in the entry) and prize giving is usually around 8-8.30pm.    Tee times can be booked in the pro shop\, online for visitors or members can book via their apps from the 1st October.
URL;VALUE=URI:https://bulwellhall.co.uk/events/event/1255/
SUMMARY:Night Golf
DTSTART:20251029T170000Z
END:VEVENT
END:VCALENDAR
