BEGIN:VCALENDAR
VERSION:2.0
PRODID:-//DIGITAL FACTORY//EVENTS MAKER V1.6.14//EN
CALSCALE:GREGORIAN
BEGIN:VEVENT
DTEND:20251121T223000Z
UID:69e88a38a232a
DTSTAMP:20260422T084336Z
CATEGORIES:Clubhouse Event
DESCRIPTION:Our Annual Charity Race Night is back!     &nbsp\;    Grab your friends and family and head down to the races.    With 8 races on screen\, a tote to place your bets\, owners race and captains raffle table!    Book your table early as this event is very popular! Tables can be booked via the bar.    Chef James's famous curry buffet will be returning with a choice of mild curry or James Hot Curry (Not for the faint hearted)\, Fresh Naan's\, Bahjis\, and Samosas. Buffet is £8.00 p/p
URL;VALUE=URI:https://bulwellhall.co.uk/events/event/charity-race-night/
SUMMARY:Charity Race Night
DTSTART:20251121T183000Z
END:VEVENT
END:VCALENDAR
